BEGIN:VCALENDAR
METHOD:PUBLISH
PRODID:-//Weblication CMS
VERSION:2.0
BEGIN:VEVENT
SUMMARY:ABGESAGT - 25. Herbstlager der Jugendfeuerwehren des Landkreises Dahme-Spreewald
DTSTART:20201001T160000
DTEND:20201004T120000
DESCRIPTION:
LOCATION:
UID:https://kfv-lds.de/cms/02_jugend/Termine/termine/8719154934.php
URL:https://kfv-lds.de/cms/02_jugend/Termine/termine/8719154934.php
END:VEVENT
END:VCALENDAR